BEGIN:VCALENDAR
VERSION:2.0
PRODID:-//Roxbury Democrats - ECPv6.15.20//NONSGML v1.0//EN
CALSCALE:GREGORIAN
METHOD:PUBLISH
X-WR-CALNAME:Roxbury Democrats
X-ORIGINAL-URL:https://roxburydems.org
X-WR-CALDESC:Events for Roxbury Democrats
REFRESH-INTERVAL;VALUE=DURATION:PT1H
X-Robots-Tag:noindex
X-PUBLISHED-TTL:PT1H
BEGIN:VTIMEZONE
TZID:America/New_York
BEGIN:DAYLIGHT
TZOFFSETFROM:-0500
TZOFFSETTO:-0400
TZNAME:EDT
DTSTART:20200308T070000
END:DAYLIGHT
BEGIN:STANDARD
TZOFFSETFROM:-0400
TZOFFSETTO:-0500
TZNAME:EST
DTSTART:20201101T060000
END:STANDARD
BEGIN:DAYLIGHT
TZOFFSETFROM:-0500
TZOFFSETTO:-0400
TZNAME:EDT
DTSTART:20210314T070000
END:DAYLIGHT
BEGIN:STANDARD
TZOFFSETFROM:-0400
TZOFFSETTO:-0500
TZNAME:EST
DTSTART:20211107T060000
END:STANDARD
BEGIN:DAYLIGHT
TZOFFSETFROM:-0500
TZOFFSETTO:-0400
TZNAME:EDT
DTSTART:20220313T070000
END:DAYLIGHT
BEGIN:STANDARD
TZOFFSETFROM:-0400
TZOFFSETTO:-0500
TZNAME:EST
DTSTART:20221106T060000
END:STANDARD
END:VTIMEZONE
BEGIN:VEVENT
DTSTART;TZID=America/New_York:20210829T100000
DTEND;TZID=America/New_York:20210829T190000
DTSTAMP:20260425T075455
CREATED:20210825T025738Z
LAST-MODIFIED:20210825T181741Z
UID:2104-1630231200-1630263600@roxburydems.org
SUMMARY:Canvass with Team Murphy!
DESCRIPTION:We will be canvassing with members of Team Murphy’s campaign all weekend!  New volunteers are always welcome.  Drivers are also appreciated.  Contact us for more information.Canvassing will take place over 3 shifts:  1pm – 4pm \n\n\n\n4pm – 7pm \n\n\n\n6pm – 8pm \n\n\n\nWe will meet at the start of each shift at 289 Emmans Road\, Flanders (in Roxbury Township)
URL:https://roxburydems.org/event/canvass-with-team-murphy-copy/
LOCATION:289 Emmans Road\, Flanders\, NJ 07836
END:VEVENT
END:VCALENDAR